BEGIN:VCALENDAR
VERSION:2.0
PRODID:-//parknews - ECPv6.15.20//NONSGML v1.0//EN
CALSCALE:GREGORIAN
METHOD:PUBLISH
X-ORIGINAL-URL:https://parknews.co.uk
X-WR-CALDESC:Events for parknews
REFRESH-INTERVAL;VALUE=DURATION:PT1H
X-Robots-Tag:noindex
X-PUBLISHED-TTL:PT1H
BEGIN:VTIMEZONE
TZID:Europe/London
BEGIN:DAYLIGHT
TZOFFSETFROM:+0000
TZOFFSETTO:+0100
TZNAME:BST
DTSTART:20240331T010000
END:DAYLIGHT
BEGIN:STANDARD
TZOFFSETFROM:+0100
TZOFFSETTO:+0000
TZNAME:GMT
DTSTART:20241027T010000
END:STANDARD
BEGIN:DAYLIGHT
TZOFFSETFROM:+0000
TZOFFSETTO:+0100
TZNAME:BST
DTSTART:20250330T010000
END:DAYLIGHT
BEGIN:STANDARD
TZOFFSETFROM:+0100
TZOFFSETTO:+0000
TZNAME:GMT
DTSTART:20251026T010000
END:STANDARD
BEGIN:DAYLIGHT
TZOFFSETFROM:+0000
TZOFFSETTO:+0100
TZNAME:BST
DTSTART:20260329T010000
END:DAYLIGHT
BEGIN:STANDARD
TZOFFSETFROM:+0100
TZOFFSETTO:+0000
TZNAME:GMT
DTSTART:20261025T010000
END:STANDARD
END:VTIMEZONE
BEGIN:VEVENT
DTSTART;TZID=Europe/London:20250608T120000
DTEND;TZID=Europe/London:20250608T150000
DTSTAMP:20260425T134238
CREATED:20250227T070048Z
LAST-MODIFIED:20250227T072509Z
UID:1812-1749384000-1749394800@parknews.co.uk
SUMMARY:Second Sunday Social - June
DESCRIPTION:An opportunity to meet your neighbours over a coffee or more (currently Memsaab’s curries)
URL:https://parknews.co.uk/event/second-sunday-social-june-2/
LOCATION:Newcastle Circus\, Newcastle Circus\, Nottingham\, Nottinghamshire\, NG7 1BJ\, United Kingdom
CATEGORIES:Second Sunday Social,Social
ORGANIZER;CN="NPRA":MAILTO:info@parknews.co.uk
END:VEVENT
BEGIN:VEVENT
DTSTART;TZID=Europe/London:20250619T123000
DTEND;TZID=Europe/London:20250619T143000
DTSTAMP:20260425T134238
CREATED:20250227T070740Z
LAST-MODIFIED:20250227T072436Z
UID:1828-1750336200-1750343400@parknews.co.uk
SUMMARY:Park Social Lunch - June
DESCRIPTION:Join us for a hot lunch and chat with other residents. A two course home cooked lunch will be served.All welcome\, for a chat and some wonderful food.Cost is £7.50 to cover pavilion hire & food. BYOB if you would like a glass of wine or beer with your meal.Please book by Sunday 15th June to secure your place. You can also let us know of any dietary requirements\, when you book. \nTO BOOK CALL:  07903 060690 \nPayment will be on the day – cash or card.
URL:https://parknews.co.uk/event/park-social-lunch-june/
LOCATION:The Park Tennis Club\, Tattershall Drive\, Nottingham\, Nottinghamshire\, NG7 1BX\, United Kingdom
CATEGORIES:Social
ORGANIZER;CN="NPRA":MAILTO:info@parknews.co.uk
END:VEVENT
BEGIN:VEVENT
DTSTART;TZID=Europe/London:20250622T130000
DTEND;TZID=Europe/London:20250622T180000
DTSTAMP:20260425T134238
CREATED:20250227T071848Z
LAST-MODIFIED:20250227T071848Z
UID:1842-1750597200-1750615200@parknews.co.uk
SUMMARY:The Park Garden Trail
DESCRIPTION:The 26th Park Garden Trail will be held on Sunday\, 22nd June\, 2025. \nThe last PGT was in June 2023\, returning after a 4 year absence. We loved welcoming our visitors again! It was a wonderful day and another record year – an amazing £38\,000 was raised for charity. We are very grateful to the many people who help to make PGT such a success\, especially to you\, our visitors. \nPlease visit these pages over the coming months as we post further information (including online tickets sales)\, or sign up to our email updates – info@parkgardentrail.org \nBuy tickets at \nhttps://www.parkgardentrail.org/store/c1/Tickets.html
URL:https://parknews.co.uk/event/the-park-garden-trail/
LOCATION:Newcastle Circus\, Newcastle Circus\, Nottingham\, Nottinghamshire\, NG7 1BJ\, United Kingdom
CATEGORIES:Fundraising
END:VEVENT
END:VCALENDAR