BEGIN:VCALENDAR
VERSION:2.0
PRODID:-//parknews - ECPv6.15.20//NONSGML v1.0//EN
CALSCALE:GREGORIAN
METHOD:PUBLISH
X-ORIGINAL-URL:https://parknews.co.uk
X-WR-CALDESC:Events for parknews
REFRESH-INTERVAL;VALUE=DURATION:PT1H
X-Robots-Tag:noindex
X-PUBLISHED-TTL:PT1H
BEGIN:VTIMEZONE
TZID:Europe/London
BEGIN:DAYLIGHT
TZOFFSETFROM:+0000
TZOFFSETTO:+0100
TZNAME:BST
DTSTART:20240331T010000
END:DAYLIGHT
BEGIN:STANDARD
TZOFFSETFROM:+0100
TZOFFSETTO:+0000
TZNAME:GMT
DTSTART:20241027T010000
END:STANDARD
BEGIN:DAYLIGHT
TZOFFSETFROM:+0000
TZOFFSETTO:+0100
TZNAME:BST
DTSTART:20250330T010000
END:DAYLIGHT
BEGIN:STANDARD
TZOFFSETFROM:+0100
TZOFFSETTO:+0000
TZNAME:GMT
DTSTART:20251026T010000
END:STANDARD
BEGIN:DAYLIGHT
TZOFFSETFROM:+0000
TZOFFSETTO:+0100
TZNAME:BST
DTSTART:20260329T010000
END:DAYLIGHT
BEGIN:STANDARD
TZOFFSETFROM:+0100
TZOFFSETTO:+0000
TZNAME:GMT
DTSTART:20261025T010000
END:STANDARD
END:VTIMEZONE
BEGIN:VEVENT
DTSTART;TZID=Europe/London:20250306T193000
DTEND;TZID=Europe/London:20250306T210000
DTSTAMP:20260421T122659
CREATED:20250225T115840Z
LAST-MODIFIED:20250225T115840Z
UID:1794-1741289400-1741294800@parknews.co.uk
SUMMARY:Spring Talks - 4th Duke of Newcastle - past owner of Nottingham Castle - Doors 7pm talks start 7.30pm
DESCRIPTION:Tony Ebbs reveals the astonishing story of the 4th Duke of Newcastle\, told through his personal diaries 1822-1850
URL:https://parknews.co.uk/event/spring-talks-4th-duke-of-newcastle-past-owner-of-nottingham-castle-doors-7pm-talks-start-7-30pm/
LOCATION:The Park Tennis Club\, Tattershall Drive\, Nottingham\, Nottinghamshire\, NG7 1BX\, United Kingdom
ORGANIZER;CN="NPRA":MAILTO:info@parknews.co.uk
END:VEVENT
BEGIN:VEVENT
DTSTART;TZID=Europe/London:20250309T120000
DTEND;TZID=Europe/London:20250309T150000
DTSTAMP:20260421T122659
CREATED:20250227T065708Z
LAST-MODIFIED:20250227T065708Z
UID:1806-1741521600-1741532400@parknews.co.uk
SUMMARY:Second Sunday Social - March
DESCRIPTION:An opportunity to meet your neighbours over a coffee or more.  This coincides with the Nottingham 10k so with road closures it may not be possible to get food vans to the site but we are looking into it.
URL:https://parknews.co.uk/event/second-sunday-social-march-2/
LOCATION:Newcastle Circus\, Newcastle Circus\, Nottingham\, Nottinghamshire\, NG7 1BJ\, United Kingdom
ORGANIZER;CN="NPRA":MAILTO:info@parknews.co.uk
END:VEVENT
BEGIN:VEVENT
DTSTART;TZID=Europe/London:20250320T123000
DTEND;TZID=Europe/London:20250320T150000
DTSTAMP:20260421T122659
CREATED:20250227T070513Z
LAST-MODIFIED:20250227T072754Z
UID:1822-1742473800-1742482800@parknews.co.uk
SUMMARY:Park Social Lunch - March
DESCRIPTION:Join us for a hot lunch and chat with other residents. A two course home cooked lunch will be served.All welcome\, for a chat and some wonderful food.Cost is £7.50 to cover pavilion hire & food. BYOB if you would like a glass of wine or beer with your meal.Please book by Sunday 16th March to secure your place. You can also let us know of any dietary requirements\, when you book. \nTO BOOK CALL:  07903 060690 \nPayment will be on the day – cash or card.
URL:https://parknews.co.uk/event/park-social-lunch-march/
LOCATION:The Park Tennis Club\, Tattershall Drive\, Nottingham\, Nottinghamshire\, NG7 1BX\, United Kingdom
CATEGORIES:Social
ORGANIZER;CN="NPRA":MAILTO:info@parknews.co.uk
END:VEVENT
END:VCALENDAR