BEGIN:VCALENDAR
VERSION:2.0
PRODID:-//parknews - ECPv6.15.20//NONSGML v1.0//EN
CALSCALE:GREGORIAN
METHOD:PUBLISH
X-WR-CALNAME:parknews
X-ORIGINAL-URL:https://parknews.co.uk
X-WR-CALDESC:Events for parknews
REFRESH-INTERVAL;VALUE=DURATION:PT1H
X-Robots-Tag:noindex
X-PUBLISHED-TTL:PT1H
BEGIN:VTIMEZONE
TZID:Europe/London
BEGIN:DAYLIGHT
TZOFFSETFROM:+0000
TZOFFSETTO:+0100
TZNAME:BST
DTSTART:20240331T010000
END:DAYLIGHT
BEGIN:STANDARD
TZOFFSETFROM:+0100
TZOFFSETTO:+0000
TZNAME:GMT
DTSTART:20241027T010000
END:STANDARD
BEGIN:DAYLIGHT
TZOFFSETFROM:+0000
TZOFFSETTO:+0100
TZNAME:BST
DTSTART:20250330T010000
END:DAYLIGHT
BEGIN:STANDARD
TZOFFSETFROM:+0100
TZOFFSETTO:+0000
TZNAME:GMT
DTSTART:20251026T010000
END:STANDARD
BEGIN:DAYLIGHT
TZOFFSETFROM:+0000
TZOFFSETTO:+0100
TZNAME:BST
DTSTART:20260329T010000
END:DAYLIGHT
BEGIN:STANDARD
TZOFFSETFROM:+0100
TZOFFSETTO:+0000
TZNAME:GMT
DTSTART:20261025T010000
END:STANDARD
END:VTIMEZONE
BEGIN:VEVENT
DTSTART;TZID=Europe/London:20250220T123000
DTEND;TZID=Europe/London:20250220T143000
DTSTAMP:20260421T105627
CREATED:20250115T090730Z
LAST-MODIFIED:20250115T090730Z
UID:1779-1740054600-1740061800@parknews.co.uk
SUMMARY:February Park Social Lunch
DESCRIPTION:Join us for a hot lunch and chat with other residents. A two course home cooked lunch will be served.All welcome\, for a chat and some wonderful food.Cost is £7.50 to cover pavilion hire & food. BYOB if you would like a glass of wine or beer with your meal.Please book by Sunday 16th February to secure your place. You can also let us know of any dietary requirements\, when you book.Payment will be on the day – cash or card.\n\nTo book call 07903 060690 –
URL:https://parknews.co.uk/event/february-park-social-lunch/
LOCATION:The Park Tennis Club\, Tattershall Drive\, Nottingham\, Nottinghamshire\, NG7 1BX\, United Kingdom
ATTACH;FMTTYPE=image/jpeg:https://parknews.co.uk/wp-content/uploads/2025/01/IMG_0400-scaled.jpeg
ORGANIZER;CN="NPRA":MAILTO:info@parknews.co.uk
END:VEVENT
END:VCALENDAR