BEGIN:VCALENDAR
VERSION:2.0
PRODID:-//parknews - ECPv6.15.20//NONSGML v1.0//EN
CALSCALE:GREGORIAN
METHOD:PUBLISH
X-WR-CALNAME:parknews
X-ORIGINAL-URL:https://parknews.co.uk
X-WR-CALDESC:Events for parknews
REFRESH-INTERVAL;VALUE=DURATION:PT1H
X-Robots-Tag:noindex
X-PUBLISHED-TTL:PT1H
BEGIN:VTIMEZONE
TZID:Europe/London
BEGIN:DAYLIGHT
TZOFFSETFROM:+0000
TZOFFSETTO:+0100
TZNAME:BST
DTSTART:20210328T010000
END:DAYLIGHT
BEGIN:STANDARD
TZOFFSETFROM:+0100
TZOFFSETTO:+0000
TZNAME:GMT
DTSTART:20211031T010000
END:STANDARD
BEGIN:DAYLIGHT
TZOFFSETFROM:+0000
TZOFFSETTO:+0100
TZNAME:BST
DTSTART:20220327T010000
END:DAYLIGHT
BEGIN:STANDARD
TZOFFSETFROM:+0100
TZOFFSETTO:+0000
TZNAME:GMT
DTSTART:20221030T010000
END:STANDARD
BEGIN:DAYLIGHT
TZOFFSETFROM:+0000
TZOFFSETTO:+0100
TZNAME:BST
DTSTART:20230326T010000
END:DAYLIGHT
BEGIN:STANDARD
TZOFFSETFROM:+0100
TZOFFSETTO:+0000
TZNAME:GMT
DTSTART:20231029T010000
END:STANDARD
END:VTIMEZONE
BEGIN:VEVENT
DTSTART;TZID=Europe/London:20220911T130000
DTEND;TZID=Europe/London:20220911T160000
DTSTAMP:20260422T014615
CREATED:20220729T065518Z
LAST-MODIFIED:20220729T065758Z
UID:615-1662901200-1662912000@parknews.co.uk
SUMMARY:Second Sunday Social - September
DESCRIPTION:An opportunity to meet your neighbours over a coffee or more (currently Doh Pizza and Memsaab’s curries)
URL:https://parknews.co.uk/event/second-sunday-social-september/
LOCATION:Newcastle Circus\, Newcastle Circus\, Nottingham\, Nottinghamshire\, NG7 1BJ\, United Kingdom
CATEGORIES:Second Sunday Social
ORGANIZER;CN="NPRA":MAILTO:info@parknews.co.uk
END:VEVENT
BEGIN:VEVENT
DTSTART;TZID=Europe/London:20220814T130000
DTEND;TZID=Europe/London:20220814T160000
DTSTAMP:20260422T014615
CREATED:20220729T065430Z
LAST-MODIFIED:20220729T065751Z
UID:613-1660482000-1660492800@parknews.co.uk
SUMMARY:Second Sunday Social - August
DESCRIPTION:An opportunity to meet your neighbours over a coffee or more (currently Doh Pizza and Memsaab’s curries)
URL:https://parknews.co.uk/event/second-sunday-social-august/
LOCATION:Newcastle Circus\, Newcastle Circus\, Nottingham\, Nottinghamshire\, NG7 1BJ\, United Kingdom
CATEGORIES:Second Sunday Social
ORGANIZER;CN="NPRA":MAILTO:info@parknews.co.uk
END:VEVENT
BEGIN:VEVENT
DTSTART;TZID=Europe/London:20220508T120000
DTEND;TZID=Europe/London:20220508T150000
DTSTAMP:20260422T014615
CREATED:20220323T194154Z
LAST-MODIFIED:20220323T194358Z
UID:83-1652011200-1652022000@parknews.co.uk
SUMMARY:AGM & Second Sunday Social – May
DESCRIPTION:An opportunity to meet your neighbours over a coffee or more.  We will also be having the NPRA AGM starting at 12.00 \nMore details to follow
URL:https://parknews.co.uk/event/agm-second-sunday-social-may/
LOCATION:Newcastle Circus\, Newcastle Circus\, Nottingham\, Nottinghamshire\, NG7 1BJ\, United Kingdom
CATEGORIES:Second Sunday Social
ORGANIZER;CN="NPRA":MAILTO:info@parknews.co.uk
END:VEVENT
BEGIN:VEVENT
DTSTART;TZID=Europe/London:20220505T193000
DTEND;TZID=Europe/London:20220505T230000
DTSTAMP:20260422T014615
CREATED:20220323T193901Z
LAST-MODIFIED:20220323T194515Z
UID:81-1651779000-1651791600@parknews.co.uk
SUMMARY:Spring Talk – Bargain Hunt: behind the scenes and in front of the TV cameras
DESCRIPTION:Charles Hanson and Victoria Sheppard\, of Hansons Auctioneers\, Derby\, will entertain us with stories from the auction/TV world of Bargain Hunt and Antiques Roadshow and then set up a mini roadshow during the evening for Park residents and friends who would like to bring along an item for Charles to assess.
URL:https://parknews.co.uk/event/spring-talk-bargain-hunt-behind-the-scenes-and-in-front-of-the-tv-cameras/
LOCATION:The Park Tennis Club\, Tattershall Drive\, Nottingham\, Nottinghamshire\, NG7 1BX\, United Kingdom
CATEGORIES:Spring Talk
ORGANIZER;CN="NPRA":MAILTO:info@parknews.co.uk
END:VEVENT
BEGIN:VEVENT
DTSTART;TZID=Europe/London:20220410T120000
DTEND;TZID=Europe/London:20220410T150000
DTSTAMP:20260422T014615
CREATED:20220323T193434Z
LAST-MODIFIED:20220323T194550Z
UID:77-1649592000-1649602800@parknews.co.uk
SUMMARY:Second Sunday Social - April
DESCRIPTION:An opportunity to meet your neighbours over a coffee or more.
URL:https://parknews.co.uk/event/second-sunday-social-april/
LOCATION:Newcastle Circus\, Newcastle Circus\, Nottingham\, Nottinghamshire\, NG7 1BJ\, United Kingdom
CATEGORIES:Second Sunday Social
ORGANIZER;CN="NPRA":MAILTO:info@parknews.co.uk
END:VEVENT
BEGIN:VEVENT
DTSTART;TZID=Europe/London:20220407T193000
DTEND;TZID=Europe/London:20220407T230000
DTSTAMP:20260422T014615
CREATED:20220323T193146Z
LAST-MODIFIED:20220323T193728Z
UID:72-1649359800-1649372400@parknews.co.uk
SUMMARY:Spring Talk – Sinking Venice
DESCRIPTION:Tony Waltham with his outstanding photographs\, gives another of his lively talks\, this time on the fate of Venice.  Doors open at 7pm.
URL:https://parknews.co.uk/event/spring-talk-sinking-venice/
LOCATION:The Park Tennis Club\, Tattershall Drive\, Nottingham\, Nottinghamshire\, NG7 1BX\, United Kingdom
CATEGORIES:Spring Talk
ORGANIZER;CN="NPRA":MAILTO:info@parknews.co.uk
END:VEVENT
END:VCALENDAR