BEGIN:VCALENDAR
VERSION:2.0
PRODID:-//parknews - ECPv6.15.20//NONSGML v1.0//EN
CALSCALE:GREGORIAN
METHOD:PUBLISH
X-ORIGINAL-URL:https://parknews.co.uk
X-WR-CALDESC:Events for parknews
REFRESH-INTERVAL;VALUE=DURATION:PT1H
X-Robots-Tag:noindex
X-PUBLISHED-TTL:PT1H
BEGIN:VTIMEZONE
TZID:Europe/London
BEGIN:DAYLIGHT
TZOFFSETFROM:+0000
TZOFFSETTO:+0100
TZNAME:BST
DTSTART:20240331T010000
END:DAYLIGHT
BEGIN:STANDARD
TZOFFSETFROM:+0100
TZOFFSETTO:+0000
TZNAME:GMT
DTSTART:20241027T010000
END:STANDARD
BEGIN:DAYLIGHT
TZOFFSETFROM:+0000
TZOFFSETTO:+0100
TZNAME:BST
DTSTART:20250330T010000
END:DAYLIGHT
BEGIN:STANDARD
TZOFFSETFROM:+0100
TZOFFSETTO:+0000
TZNAME:GMT
DTSTART:20251026T010000
END:STANDARD
BEGIN:DAYLIGHT
TZOFFSETFROM:+0000
TZOFFSETTO:+0100
TZNAME:BST
DTSTART:20260329T010000
END:DAYLIGHT
BEGIN:STANDARD
TZOFFSETFROM:+0100
TZOFFSETTO:+0000
TZNAME:GMT
DTSTART:20261025T010000
END:STANDARD
BEGIN:DAYLIGHT
TZOFFSETFROM:+0000
TZOFFSETTO:+0100
TZNAME:BST
DTSTART:20270328T010000
END:DAYLIGHT
BEGIN:STANDARD
TZOFFSETFROM:+0100
TZOFFSETTO:+0000
TZNAME:GMT
DTSTART:20271031T010000
END:STANDARD
END:VTIMEZONE
BEGIN:VEVENT
DTSTART;TZID=Europe/London:20250712T130000
DTEND;TZID=Europe/London:20250712T170000
DTSTAMP:20260422T013844
CREATED:20250227T072044Z
LAST-MODIFIED:20250227T072044Z
UID:1845-1752325200-1752339600@parknews.co.uk
SUMMARY:Boules dans le Parc
DESCRIPTION:The annual boules competition – as close to Bastille Day as possible
URL:https://parknews.co.uk/event/boules-dans-le-parc-3/
LOCATION:Newcastle Circus\, Newcastle Circus\, Nottingham\, Nottinghamshire\, NG7 1BJ\, United Kingdom
CATEGORIES:Boules
ORGANIZER;CN="NPRA":MAILTO:info@parknews.co.uk
END:VEVENT
BEGIN:VEVENT
DTSTART;TZID=Europe/London:20250713T120000
DTEND;TZID=Europe/London:20250713T150000
DTSTAMP:20260422T013844
CREATED:20250227T070142Z
LAST-MODIFIED:20250227T072930Z
UID:1814-1752408000-1752418800@parknews.co.uk
SUMMARY:Second Sunday Social - July
DESCRIPTION:An opportunity to meet your neighbours over a coffee or more (currently Memsaab’s curries)
URL:https://parknews.co.uk/event/second-sunday-social-july-2/
LOCATION:Newcastle Circus\, Newcastle Circus\, Nottingham\, Nottinghamshire\, NG7 1BJ\, United Kingdom
CATEGORIES:Second Sunday Social
ORGANIZER;CN="NPRA":MAILTO:info@parknews.co.uk
END:VEVENT
BEGIN:VEVENT
DTSTART;TZID=Europe/London:20250713T171500
DTEND;TZID=Europe/London:20250713T190000
DTSTAMP:20260422T013844
CREATED:20250515T081500Z
LAST-MODIFIED:20250604T065844Z
UID:1897-1752426900-1752433200@parknews.co.uk
SUMMARY:Tunnel Vision with the Nottingham Chamber Music Festival
DESCRIPTION:As part of the Nottingham Chamber Music Festival we have joined forces with them to bring classical music to a most unique venue\, The Park Tunnel. The Nottingham Chamber Music Festival will be having their closing concert of the season in The Park Tunnel on Sunday\, July 13th. \nBringing the Festival to a grand finale is Tunnel Vision\, concert in one of Nottingham’s hidden gems. Join us in the enigmatic Grade II listed Park Tunnel\, built in 1855 as an entrance to the Park Estate. A string quartet from the Le Page Ensemble will perform an eclectic mix of works to evoke the mystery of the tunnel\, including music by Philip Glass\, J.S. Bach\, and Kraftwerk. \nDoors are at 17:15\, the concert starts at 18:00 and finishes at 19:00. We will have champagne\, wine\, coffee and soft drinks available on the night so come early to chat with neighbours and friends over a glass of something nice! \nTo book tickets please go to: \nTunnel Vision – Classical Music Concert in the Tunnel \n \n 
URL:https://parknews.co.uk/event/tunnel-vision-with-the-nottingham-chamber-music-festival/
LOCATION:The Park Tunnel\, Tunnel Road\, Nottingham\, NG1 5DU\, United Kingdom
CATEGORIES:Fundraising,Social
ORGANIZER;CN="NPRA":MAILTO:info@parknews.co.uk
END:VEVENT
BEGIN:VEVENT
DTSTART;TZID=Europe/London:20250717T123000
DTEND;TZID=Europe/London:20250717T143000
DTSTAMP:20260422T013844
CREATED:20250227T070843Z
LAST-MODIFIED:20250227T072944Z
UID:1830-1752755400-1752762600@parknews.co.uk
SUMMARY:Park Social Lunch - July
DESCRIPTION:Join us for a hot lunch and chat with other residents. A two course home cooked lunch will be served.All welcome\, for a chat and some wonderful food.Cost is £7.50 to cover pavilion hire & food. BYOB if you would like a glass of wine or beer with your meal.Please book by Sunday 13th July to secure your place. You can also let us know of any dietary requirements\, when you book. \nTO BOOK CALL:  07903 060690 \nPayment will be on the day – cash or card.
URL:https://parknews.co.uk/event/park-social-lunch-july/
LOCATION:The Park Tennis Club\, Tattershall Drive\, Nottingham\, Nottinghamshire\, NG7 1BX\, United Kingdom
CATEGORIES:Social
ORGANIZER;CN="NPRA":MAILTO:info@parknews.co.uk
END:VEVENT
BEGIN:VEVENT
DTSTART;TZID=Europe/London:20250803T153000
DTEND;TZID=Europe/London:20250803T203000
DTSTAMP:20260422T013844
CREATED:20250721T062442Z
LAST-MODIFIED:20250721T062442Z
UID:2040-1754235000-1754253000@parknews.co.uk
SUMMARY:Shakespeare on Trial: Romeo and Juliet vs. Macbeth
DESCRIPTION:This August\, Nottingham Shakespeare Company are bringing something a bit different; Shakespeare on Trial: Romeo and Juliet vs. Macbeth \nIn the afternoon (15:30) they will perform their 1 hour Romeo & Juliet – Shakespeare’s eternal tearjerker in a breakneck rock ‘n’ roll rollercoaster thrill ride. Feel the ‘mad blood stirring’ as we witness the teen lovers hurtle toward their doom. \nIn the evening\, (19:00) things go dark as we welcome the brooding presence of Macbeth\, the weird sisters and his Lady to the stage to play out this terrifying tale of blood\, murder\, death and the horror of unchecked ambition in 50 minutes of enchantment. \nThe audience will be invited to decide… blood or brooding\, passion or power\, witches or weddings?
URL:https://parknews.co.uk/event/shakespeare-on-trial-romeo-and-juliet-vs-macbeth/
LOCATION:Newcastle Circus\, Newcastle Circus\, Nottingham\, Nottinghamshire\, NG7 1BJ\, United Kingdom
ORGANIZER;CN="NPRA":MAILTO:info@parknews.co.uk
END:VEVENT
BEGIN:VEVENT
DTSTART;TZID=Europe/London:20250821T123000
DTEND;TZID=Europe/London:20250821T143000
DTSTAMP:20260422T013844
CREATED:20250227T070956Z
LAST-MODIFIED:20250227T073007Z
UID:1832-1755779400-1755786600@parknews.co.uk
SUMMARY:Park Social Lunch - August
DESCRIPTION:Join us for a hot lunch and chat with other residents. A two course home cooked lunch will be served.All welcome\, for a chat and some wonderful food.Cost is £7.50 to cover pavilion hire & food. BYOB if you would like a glass of wine or beer with your meal.Please book by Sunday 17th August to secure your place. You can also let us know of any dietary requirements\, when you book. \nTO BOOK CALL:  07903 060690 \nPayment will be on the day – cash or card.
URL:https://parknews.co.uk/event/park-social-lunch-august/
LOCATION:The Park Tennis Club\, Tattershall Drive\, Nottingham\, Nottinghamshire\, NG7 1BX\, United Kingdom
CATEGORIES:Social
ORGANIZER;CN="NPRA":MAILTO:info@parknews.co.uk
END:VEVENT
BEGIN:VEVENT
DTSTART;TZID=Europe/London:20250914T120000
DTEND;TZID=Europe/London:20250914T150000
DTSTAMP:20260422T013844
CREATED:20250227T070312Z
LAST-MODIFIED:20250914T084432Z
UID:1818-1757851200-1757862000@parknews.co.uk
SUMMARY:## CANCELLED ## Second Sunday Social - September
DESCRIPTION:An opportunity to meet your neighbours over a coffee or more (currently Memsaab’s curries)
URL:https://parknews.co.uk/event/second-sunday-social-september-3/
LOCATION:Newcastle Circus\, Newcastle Circus\, Nottingham\, Nottinghamshire\, NG7 1BJ\, United Kingdom
CATEGORIES:Second Sunday Social
ORGANIZER;CN="NPRA":MAILTO:info@parknews.co.uk
END:VEVENT
BEGIN:VEVENT
DTSTART;TZID=Europe/London:20250925T123000
DTEND;TZID=Europe/London:20250925T143000
DTSTAMP:20260422T013844
CREATED:20250227T071107Z
LAST-MODIFIED:20250914T084736Z
UID:1834-1758803400-1758810600@parknews.co.uk
SUMMARY:## DATE CHANGE ## Park Social Lunch - September
DESCRIPTION:Join us for a hot lunch and chat with other residents. A two course home cooked lunch will be served.All welcome\, for a chat and some wonderful food.Cost is £7.50 to cover pavilion hire & food. BYOB if you would like a glass of wine or beer with your meal.Please book by Sunday 14th September to secure your place. You can also let us know of any dietary requirements\, when you book. \nTO BOOK CALL:  07903 060690 \nPayment will be on the day – cash or card.
URL:https://parknews.co.uk/event/park-social-lunch-september-2/
LOCATION:The Park Tennis Club\, Tattershall Drive\, Nottingham\, Nottinghamshire\, NG7 1BX\, United Kingdom
CATEGORIES:Social
ORGANIZER;CN="NPRA":MAILTO:info@parknews.co.uk
END:VEVENT
BEGIN:VEVENT
DTSTART;TZID=Europe/London:20250927T184500
DTEND;TZID=Europe/London:20250927T233000
DTSTAMP:20260422T013844
CREATED:20250227T072230Z
LAST-MODIFIED:20250907T174458Z
UID:1847-1758998700-1759015800@parknews.co.uk
SUMMARY:Safari Supper
DESCRIPTION:The highlight of our social calendar. An event which lets you meet new people and enjoy the hospitality of Park residents\, either as a host or a guest.
URL:https://parknews.co.uk/event/safari-supper-3/
LOCATION:The Park Tennis Club\, Tattershall Drive\, Nottingham\, Nottinghamshire\, NG7 1BX\, United Kingdom
CATEGORIES:Safari Supper
ORGANIZER;CN="NPRA":MAILTO:info@parknews.co.uk
END:VEVENT
BEGIN:VEVENT
DTSTART;TZID=Europe/London:20251012T120000
DTEND;TZID=Europe/London:20251012T150000
DTSTAMP:20260422T013844
CREATED:20250227T070404Z
LAST-MODIFIED:20251003T104509Z
UID:1820-1760270400-1760281200@parknews.co.uk
SUMMARY:Second Sunday Social & Car Boot Sale- October
DESCRIPTION:An opportunity to meet your neighbours over a coffee or more (currently Memsaab’s curries).  Find out about the car boot sale at the link below \nThe Park Car Boot Sale – Sunday 12th October \n \n 
URL:https://parknews.co.uk/event/second-sunday-social-october-3/
LOCATION:Newcastle Circus\, Newcastle Circus\, Nottingham\, Nottinghamshire\, NG7 1BJ\, United Kingdom
CATEGORIES:Second Sunday Social
ORGANIZER;CN="NPRA":MAILTO:info@parknews.co.uk
END:VEVENT
BEGIN:VEVENT
DTSTART;TZID=Europe/London:20251016T123000
DTEND;TZID=Europe/London:20251016T143000
DTSTAMP:20260422T013844
CREATED:20250227T071214Z
LAST-MODIFIED:20250227T071214Z
UID:1836-1760617800-1760625000@parknews.co.uk
SUMMARY:Park Social Lunch - October
DESCRIPTION:Join us for a hot lunch and chat with other residents. A two course home cooked lunch will be served.All welcome\, for a chat and some wonderful food.Cost is £7.50 to cover pavilion hire & food. BYOB if you would like a glass of wine or beer with your meal.Please book by Sunday 12th October to secure your place. You can also let us know of any dietary requirements\, when you book. \nTO BOOK CALL:  07903 060690 \nPayment will be on the day – cash or card.
URL:https://parknews.co.uk/event/park-social-lunch-october/
LOCATION:The Park Tennis Club\, Tattershall Drive\, Nottingham\, Nottinghamshire\, NG7 1BX\, United Kingdom
CATEGORIES:Social
ORGANIZER;CN="NPRA":MAILTO:info@parknews.co.uk
END:VEVENT
BEGIN:VEVENT
DTSTART;TZID=Europe/London:20251120T123000
DTEND;TZID=Europe/London:20251120T143000
DTSTAMP:20260422T013844
CREATED:20250227T071308Z
LAST-MODIFIED:20250227T073040Z
UID:1838-1763641800-1763649000@parknews.co.uk
SUMMARY:Park Social Lunch - November
DESCRIPTION:Join us for a hot lunch and chat with other residents. A two course home cooked lunch will be served.All welcome\, for a chat and some wonderful food.Cost is £7.50 to cover pavilion hire & food. BYOB if you would like a glass of wine or beer with your meal.Please book by Sunday 16th November to secure your place. You can also let us know of any dietary requirements\, when you book. \nTO BOOK CALL:  07903 060690 \nPayment will be on the day – cash or card.
URL:https://parknews.co.uk/event/park-social-lunch-november/
LOCATION:The Park Tennis Club\, Tattershall Drive\, Nottingham\, Nottinghamshire\, NG7 1BX\, United Kingdom
CATEGORIES:Social
ORGANIZER;CN="NPRA":MAILTO:info@parknews.co.uk
END:VEVENT
BEGIN:VEVENT
DTSTART;TZID=Europe/London:20251214T160000
DTEND;TZID=Europe/London:20251214T183000
DTSTAMP:20260422T013844
CREATED:20250227T072358Z
LAST-MODIFIED:20250227T072358Z
UID:1849-1765728000-1765737000@parknews.co.uk
SUMMARY:Carols in the Park
DESCRIPTION:This replaces the December Second Sunday Social. \nThere will be Mulled wine\, coffee\, hot chocolate\, mince pies & Burton Joyce Community Brass Band joining us from 17:30
URL:https://parknews.co.uk/event/carols-in-the-park-3/
LOCATION:Newcastle Circus\, Newcastle Circus\, Nottingham\, Nottinghamshire\, NG7 1BJ\, United Kingdom
CATEGORIES:Christmas
ORGANIZER;CN="NPRA":MAILTO:info@parknews.co.uk
END:VEVENT
BEGIN:VEVENT
DTSTART;TZID=Europe/London:20251218T123000
DTEND;TZID=Europe/London:20251218T143000
DTSTAMP:20260422T013844
CREATED:20250227T071421Z
LAST-MODIFIED:20250227T073046Z
UID:1840-1766061000-1766068200@parknews.co.uk
SUMMARY:Park Social Lunch - December
DESCRIPTION:Join us for a hot lunch and chat with other residents. A two course home cooked lunch will be served.All welcome\, for a chat and some wonderful food.Cost is £7.50 to cover pavilion hire & food. BYOB if you would like a glass of wine or beer with your meal.Please book by Sunday 14th December to secure your place. You can also let us know of any dietary requirements\, when you book. \nTO BOOK CALL:  07903 060690 \nPayment will be on the day – cash or card.
URL:https://parknews.co.uk/event/park-social-lunch-december/
LOCATION:The Park Tennis Club\, Tattershall Drive\, Nottingham\, Nottinghamshire\, NG7 1BX\, United Kingdom
CATEGORIES:Social
ORGANIZER;CN="NPRA":MAILTO:info@parknews.co.uk
END:VEVENT
BEGIN:VEVENT
DTSTART;TZID=Europe/London:20260412T120000
DTEND;TZID=Europe/London:20260412T150000
DTSTAMP:20260422T013844
CREATED:20260413T142613Z
LAST-MODIFIED:20260413T142613Z
UID:2170-1775995200-1776006000@parknews.co.uk
SUMMARY:Second Sunday Social - April
DESCRIPTION:An opportunity to meet your neighbours over a coffee or more (currently Memsaab’s curries)
URL:https://parknews.co.uk/event/second-sunday-social-april-4/
LOCATION:Newcastle Circus\, Newcastle Circus\, Nottingham\, Nottinghamshire\, NG7 1BJ\, United Kingdom
CATEGORIES:Second Sunday Social,Social
ORGANIZER;CN="NPRA":MAILTO:info@parknews.co.uk
END:VEVENT
BEGIN:VEVENT
DTSTART;TZID=Europe/London:20260510T120000
DTEND;TZID=Europe/London:20260510T150000
DTSTAMP:20260422T013844
CREATED:20260413T142702Z
LAST-MODIFIED:20260413T143126Z
UID:2172-1778414400-1778425200@parknews.co.uk
SUMMARY:Second Sunday Social & MPRA AGM - May
DESCRIPTION:An opportunity to meet your neighbours over a coffee or more (currently Memsaab’s curries)
URL:https://parknews.co.uk/event/second-sunday-social-may-3/
LOCATION:Newcastle Circus\, Newcastle Circus\, Nottingham\, Nottinghamshire\, NG7 1BJ\, United Kingdom
CATEGORIES:Second Sunday Social,Social
ORGANIZER;CN="NPRA":MAILTO:info@parknews.co.uk
END:VEVENT
BEGIN:VEVENT
DTSTART;TZID=Europe/London:20260614T120000
DTEND;TZID=Europe/London:20260614T150000
DTSTAMP:20260422T013844
CREATED:20260413T142739Z
LAST-MODIFIED:20260413T142739Z
UID:2174-1781438400-1781449200@parknews.co.uk
SUMMARY:Second Sunday Social - June
DESCRIPTION:An opportunity to meet your neighbours over a coffee or more (currently Memsaab’s curries)
URL:https://parknews.co.uk/event/second-sunday-social-june-3/
LOCATION:Nottinghamshire
CATEGORIES:Second Sunday Social,Social
END:VEVENT
BEGIN:VEVENT
DTSTART;TZID=Europe/London:20260711T130000
DTEND;TZID=Europe/London:20260711T170000
DTSTAMP:20260422T013844
CREATED:20260413T143829Z
LAST-MODIFIED:20260413T143829Z
UID:2188-1783774800-1783789200@parknews.co.uk
SUMMARY:Boules dans le Park
DESCRIPTION:20 years of unbroken sunshine.\nEveryone welcome\, just register a team of 2 or 3 with us the week before or turn up on the day and take a chance. Prizes will be forthcoming.
URL:https://parknews.co.uk/event/boules-dans-le-park/
LOCATION:Newcastle Circus\, Newcastle Circus\, Nottingham\, Nottinghamshire\, NG7 1BJ\, United Kingdom
CATEGORIES:Boules,Social
ORGANIZER;CN="NPRA":MAILTO:info@parknews.co.uk
END:VEVENT
BEGIN:VEVENT
DTSTART;TZID=Europe/London:20260712T120000
DTEND;TZID=Europe/London:20260712T150000
DTSTAMP:20260422T013844
CREATED:20260413T142823Z
LAST-MODIFIED:20260413T142823Z
UID:2176-1783857600-1783868400@parknews.co.uk
SUMMARY:Second Sunday Social - July
DESCRIPTION:An opportunity to meet your neighbours over a coffee or more (currently Memsaab’s curries)
URL:https://parknews.co.uk/event/second-sunday-social-july-3/
LOCATION:Newcastle Circus\, Newcastle Circus\, Nottingham\, Nottinghamshire\, NG7 1BJ\, United Kingdom
CATEGORIES:Second Sunday Social,Social
ORGANIZER;CN="NPRA":MAILTO:info@parknews.co.uk
END:VEVENT
BEGIN:VEVENT
DTSTART;TZID=Europe/London:20260712T170000
DTEND;TZID=Europe/London:20260712T190000
DTSTAMP:20260422T013844
CREATED:20260413T143726Z
LAST-MODIFIED:20260413T143726Z
UID:2186-1783875600-1783882800@parknews.co.uk
SUMMARY:Tunnel Vision II:  Vivaldi
DESCRIPTION:In association with the Nottingham Chamber Music Festival\, building on last year’s successful event. Details to follow.
URL:https://parknews.co.uk/event/tunnel-vision-ii-vivaldi/
LOCATION:The Park Tunnel\, Tunnel Road\, Nottingham\, NG1 5DU\, United Kingdom
CATEGORIES:Social
ORGANIZER;CN="NPRA":MAILTO:info@parknews.co.uk
END:VEVENT
BEGIN:VEVENT
DTSTART;TZID=Europe/London:20260809T120000
DTEND;TZID=Europe/London:20260809T150000
DTSTAMP:20260422T013844
CREATED:20260413T142911Z
LAST-MODIFIED:20260413T142911Z
UID:2178-1786276800-1786287600@parknews.co.uk
SUMMARY:Second Sunday Social - August
DESCRIPTION:An opportunity to meet your neighbours over a coffee or more (currently Memsaab’s curries)
URL:https://parknews.co.uk/event/second-sunday-social-august-3/
LOCATION:Newcastle Circus\, Newcastle Circus\, Nottingham\, Nottinghamshire\, NG7 1BJ\, United Kingdom
CATEGORIES:Second Sunday Social,Social
ORGANIZER;CN="NPRA":MAILTO:info@parknews.co.uk
END:VEVENT
BEGIN:VEVENT
DTSTART;TZID=Europe/London:20260913T120000
DTEND;TZID=Europe/London:20260913T150000
DTSTAMP:20260422T013844
CREATED:20260413T143001Z
LAST-MODIFIED:20260413T143001Z
UID:2180-1789300800-1789311600@parknews.co.uk
SUMMARY:Second Sunday Social - September
DESCRIPTION:An opportunity to meet your neighbours over a coffee or more (currently Memsaab’s curries)
URL:https://parknews.co.uk/event/second-sunday-social-september-4/
LOCATION:Newcastle Circus\, Newcastle Circus\, Nottingham\, Nottinghamshire\, NG7 1BJ\, United Kingdom
CATEGORIES:Second Sunday Social,Social
ORGANIZER;CN="NPRA":MAILTO:info@parknews.co.uk
END:VEVENT
BEGIN:VEVENT
DTSTART;TZID=Europe/London:20260913T120000
DTEND;TZID=Europe/London:20260913T170000
DTSTAMP:20260422T013844
CREATED:20260413T143929Z
LAST-MODIFIED:20260413T144247Z
UID:2190-1789300800-1789318800@parknews.co.uk
SUMMARY:The Park Horticultural Show
DESCRIPTION:A new biannual event for your calendars\, complete with the essential wonky vegetable competition.
URL:https://parknews.co.uk/event/the-park-horticultural-show/
LOCATION:Newcastle Circus\, Newcastle Circus\, Nottingham\, Nottinghamshire\, NG7 1BJ\, United Kingdom
CATEGORIES:Social
ORGANIZER;CN="NPRA":MAILTO:info@parknews.co.uk
END:VEVENT
BEGIN:VEVENT
DTSTART;TZID=Europe/London:20260919T183000
DTEND;TZID=Europe/London:20260919T233000
DTSTAMP:20260422T013844
CREATED:20260413T144117Z
LAST-MODIFIED:20260413T144117Z
UID:2192-1789842600-1789860600@parknews.co.uk
SUMMARY:Safari Dinner
DESCRIPTION:The highlight of our social calendar. A 100+ event which lets you meet new people and enjoy the hospitality of Park residents\, either as a host or a paying guest.
URL:https://parknews.co.uk/event/safari-dinner-2/
LOCATION:The Park Tennis Club\, Tattershall Drive\, Nottingham\, Nottinghamshire\, NG7 1BX\, United Kingdom
ORGANIZER;CN="NPRA":MAILTO:info@parknews.co.uk
END:VEVENT
BEGIN:VEVENT
DTSTART;TZID=Europe/London:20261011T120000
DTEND;TZID=Europe/London:20261011T150000
DTSTAMP:20260422T013844
CREATED:20260413T143049Z
LAST-MODIFIED:20260413T143049Z
UID:2182-1791720000-1791730800@parknews.co.uk
SUMMARY:Second Sunday Social - October
DESCRIPTION:An opportunity to meet your neighbours over a coffee or more (currently Memsaab’s curries)
URL:https://parknews.co.uk/event/second-sunday-social-october-4/
LOCATION:Newcastle Circus\, Newcastle Circus\, Nottingham\, Nottinghamshire\, NG7 1BJ\, United Kingdom
ORGANIZER;CN="NPRA":MAILTO:info@parknews.co.uk
END:VEVENT
BEGIN:VEVENT
DTSTART;TZID=Europe/London:20261213T160000
DTEND;TZID=Europe/London:20261213T183000
DTSTAMP:20260422T013844
CREATED:20260413T142353Z
LAST-MODIFIED:20260413T142353Z
UID:2168-1797177600-1797186600@parknews.co.uk
SUMMARY:Carols in the Park
DESCRIPTION:This replaces the December Second Sunday Social. \nThere will be Mulled wine\, coffee\, hot chocolate\, mince pies & Burton Joyce Community Brass Band joining us from 17:30
URL:https://parknews.co.uk/event/carols-in-the-park-4/
LOCATION:Newcastle Circus\, Newcastle Circus\, Nottingham\, Nottinghamshire\, NG7 1BJ\, United Kingdom
CATEGORIES:Christmas,Social
ORGANIZER;CN="NPRA":MAILTO:info@parknews.co.uk
END:VEVENT
END:VCALENDAR