BEGIN:VCALENDAR
VERSION:2.0
PRODID:-//parknews - ECPv6.15.20//NONSGML v1.0//EN
CALSCALE:GREGORIAN
METHOD:PUBLISH
X-WR-CALNAME:parknews
X-ORIGINAL-URL:https://parknews.co.uk
X-WR-CALDESC:Events for parknews
REFRESH-INTERVAL;VALUE=DURATION:PT1H
X-Robots-Tag:noindex
X-PUBLISHED-TTL:PT1H
BEGIN:VTIMEZONE
TZID:Europe/London
BEGIN:DAYLIGHT
TZOFFSETFROM:+0000
TZOFFSETTO:+0100
TZNAME:BST
DTSTART:20210328T010000
END:DAYLIGHT
BEGIN:STANDARD
TZOFFSETFROM:+0100
TZOFFSETTO:+0000
TZNAME:GMT
DTSTART:20211031T010000
END:STANDARD
BEGIN:DAYLIGHT
TZOFFSETFROM:+0000
TZOFFSETTO:+0100
TZNAME:BST
DTSTART:20220327T010000
END:DAYLIGHT
BEGIN:STANDARD
TZOFFSETFROM:+0100
TZOFFSETTO:+0000
TZNAME:GMT
DTSTART:20221030T010000
END:STANDARD
BEGIN:DAYLIGHT
TZOFFSETFROM:+0000
TZOFFSETTO:+0100
TZNAME:BST
DTSTART:20230326T010000
END:DAYLIGHT
BEGIN:STANDARD
TZOFFSETFROM:+0100
TZOFFSETTO:+0000
TZNAME:GMT
DTSTART:20231029T010000
END:STANDARD
BEGIN:DAYLIGHT
TZOFFSETFROM:+0000
TZOFFSETTO:+0100
TZNAME:BST
DTSTART:20240331T010000
END:DAYLIGHT
BEGIN:STANDARD
TZOFFSETFROM:+0100
TZOFFSETTO:+0000
TZNAME:GMT
DTSTART:20241027T010000
END:STANDARD
BEGIN:DAYLIGHT
TZOFFSETFROM:+0000
TZOFFSETTO:+0100
TZNAME:BST
DTSTART:20250330T010000
END:DAYLIGHT
BEGIN:STANDARD
TZOFFSETFROM:+0100
TZOFFSETTO:+0000
TZNAME:GMT
DTSTART:20251026T010000
END:STANDARD
BEGIN:DAYLIGHT
TZOFFSETFROM:+0000
TZOFFSETTO:+0100
TZNAME:BST
DTSTART:20260329T010000
END:DAYLIGHT
BEGIN:STANDARD
TZOFFSETFROM:+0100
TZOFFSETTO:+0000
TZNAME:GMT
DTSTART:20261025T010000
END:STANDARD
END:VTIMEZONE
BEGIN:VEVENT
DTSTART;TZID=Europe/London:20251214T160000
DTEND;TZID=Europe/London:20251214T183000
DTSTAMP:20260421T221650
CREATED:20250227T072358Z
LAST-MODIFIED:20250227T072358Z
UID:1849-1765728000-1765737000@parknews.co.uk
SUMMARY:Carols in the Park
DESCRIPTION:This replaces the December Second Sunday Social. \nThere will be Mulled wine\, coffee\, hot chocolate\, mince pies & Burton Joyce Community Brass Band joining us from 17:30
URL:https://parknews.co.uk/event/carols-in-the-park-3/
LOCATION:Newcastle Circus\, Newcastle Circus\, Nottingham\, Nottinghamshire\, NG7 1BJ\, United Kingdom
CATEGORIES:Christmas
ORGANIZER;CN="NPRA":MAILTO:info@parknews.co.uk
END:VEVENT
BEGIN:VEVENT
DTSTART;TZID=Europe/London:20241215T160000
DTEND;TZID=Europe/London:20241215T183000
DTSTAMP:20260421T221650
CREATED:20240219T180726Z
LAST-MODIFIED:20241203T143348Z
UID:1563-1734278400-1734287400@parknews.co.uk
SUMMARY:Carols in The Park
DESCRIPTION:This replaces the December Second Sunday Social. \nThere will be Mulled wine\, coffee\, hot chocolate\, mince pies\, samosas\, & Burton Joyce Community Brass Band joining us from 17:30
URL:https://parknews.co.uk/event/carols-in-the-park-2/
LOCATION:Newcastle Circus\, Newcastle Circus\, Nottingham\, Nottinghamshire\, NG7 1BJ\, United Kingdom
CATEGORIES:Christmas,Second Sunday Social,Social
ORGANIZER;CN="NPRA":MAILTO:info@parknews.co.uk
END:VEVENT
BEGIN:VEVENT
DTSTART;TZID=Europe/London:20231210T160000
DTEND;TZID=Europe/London:20231210T180000
DTSTAMP:20260421T221650
CREATED:20230112T091005Z
LAST-MODIFIED:20231128T103708Z
UID:931-1702224000-1702231200@parknews.co.uk
SUMMARY:Carols in the Park
DESCRIPTION:This replaces the December Second Sunday Social. \nMulled wine\, food\, brass band = Christmas \nThis year we are joined by the Burton Joyce Community Brass Band who will be playing from 6ish
URL:https://parknews.co.uk/event/carols-in-the-park/
LOCATION:Newcastle Circus\, Newcastle Circus\, Nottingham\, Nottinghamshire\, NG7 1BJ\, United Kingdom
CATEGORIES:Christmas,Second Sunday Social,Social
ORGANIZER;CN="NPRA":MAILTO:info@parknews.co.uk
END:VEVENT
BEGIN:VEVENT
DTSTART;TZID=Europe/London:20221211T160000
DTEND;TZID=Europe/London:20221211T180000
DTSTAMP:20260421T221650
CREATED:20221205T202956Z
LAST-MODIFIED:20221205T203035Z
UID:830-1670774400-1670781600@parknews.co.uk
SUMMARY:Christmas Carols
DESCRIPTION:Mulled Wine and Mince Pies\, plus a seasonal curry – you couldn’t plan it.\nPlus . . . a real treat this year from Totally Vocally. If they’re good enough for Gareth Malone\, they’re good enough for us. Join in if you’re feeling brave. It all starts at 4pm with mulled wine and mince pies in the big tent\, with curry from Memsaab & Pizza from Pizza Pals in the tent next door. We are then joined by Totally Vocally at 5pm for a sleigh full of carols. Come along and join in the fun!
URL:https://parknews.co.uk/event/christmas-carols-2/
LOCATION:Newcastle Circus\, Newcastle Circus\, Nottingham\, Nottinghamshire\, NG7 1BJ\, United Kingdom
CATEGORIES:Christmas,Second Sunday Social,Social
ORGANIZER;CN="NPRA":MAILTO:info@parknews.co.uk
END:VEVENT
END:VCALENDAR