BEGIN:VCALENDAR
VERSION:2.0
PRODID:-//parknews - ECPv6.15.20//NONSGML v1.0//EN
CALSCALE:GREGORIAN
METHOD:PUBLISH
X-ORIGINAL-URL:https://parknews.co.uk
X-WR-CALDESC:Events for parknews
REFRESH-INTERVAL;VALUE=DURATION:PT1H
X-Robots-Tag:noindex
X-PUBLISHED-TTL:PT1H
BEGIN:VTIMEZONE
TZID:Europe/London
BEGIN:DAYLIGHT
TZOFFSETFROM:+0000
TZOFFSETTO:+0100
TZNAME:BST
DTSTART:20240331T010000
END:DAYLIGHT
BEGIN:STANDARD
TZOFFSETFROM:+0100
TZOFFSETTO:+0000
TZNAME:GMT
DTSTART:20241027T010000
END:STANDARD
BEGIN:DAYLIGHT
TZOFFSETFROM:+0000
TZOFFSETTO:+0100
TZNAME:BST
DTSTART:20250330T010000
END:DAYLIGHT
BEGIN:STANDARD
TZOFFSETFROM:+0100
TZOFFSETTO:+0000
TZNAME:GMT
DTSTART:20251026T010000
END:STANDARD
BEGIN:DAYLIGHT
TZOFFSETFROM:+0000
TZOFFSETTO:+0100
TZNAME:BST
DTSTART:20260329T010000
END:DAYLIGHT
BEGIN:STANDARD
TZOFFSETFROM:+0100
TZOFFSETTO:+0000
TZNAME:GMT
DTSTART:20261025T010000
END:STANDARD
END:VTIMEZONE
BEGIN:VEVENT
DTSTART;TZID=Europe/London:20250403T193000
DTEND;TZID=Europe/London:20250403T203000
DTSTAMP:20260421T134648
CREATED:20250225T120104Z
LAST-MODIFIED:20250227T072704Z
UID:1796-1743708600-1743712200@parknews.co.uk
SUMMARY:Spring Talks - City Arts - a charity whose mission is to ensure access to art and culture for everyone - Doors 7pm talk starts 7.30pm
DESCRIPTION:Suzannah Bedford introduces talented artists living and working in Nottingham via City Arts\, one of the hidden cultural gems in the City.
URL:https://parknews.co.uk/event/spring-talks-city-arts-a-charity-whose-mission-is-to-ensure-access-to-art-and-culture-for-everyone-doors-7pm-talk-starts-7-30pm/
LOCATION:The Park Tennis Club\, Tattershall Drive\, Nottingham\, Nottinghamshire\, NG7 1BX\, United Kingdom
CATEGORIES:Fundraising,Social,Spring Talk
ORGANIZER;CN="NPRA":MAILTO:info@parknews.co.uk
END:VEVENT
END:VCALENDAR